BEGIN:VCALENDAR
VERSION:2.0
PRODID:icalendar-ruby
CALSCALE:GREGORIAN
BEGIN:VEVENT
DTSTAMP:20260424T000711Z
UID:9401aa4c-b9fa-4d37-a7b6-0f96120198fe
DTSTART:20261006T070000Z
DTEND:20261009T150000Z
DESCRIPTION:This course delves into the cutting-edge field of Spatial Omics
 \, focusing on Spatially-Resolved Transcriptomics (SRT) technology which p
 rovides unprecedented insights into the spatial organization of gene expre
 ssion within tissues. The rapid and recent advances in SRT technology are 
 transforming our understanding of biological systems\, and this course is 
 designed to equip researchers with the tools to harness the power of SRT\,
  adding significant value to biological knowledge and opening new avenues 
 for scientific discovery.\n\nParticipants will explore both imaging-based 
 and sequencing-based SRT technologies\, learning to navigate the entire wo
 rkflow of SRT data analysis. The course covers essential topics such as pr
 e-processing techniques for data cleaning\, normalization\, and quality co
 ntrol\, methods for identifying and characterizing spatial domains within 
 tissues\, strategies for integrating SRT data with single-cell RNA sequenc
 ing data\, and statistical approaches to analyze spatial patterns and rela
 tionships. Additionally\, participants will investigate interactions betwe
 en cells within their spatial context. By the end of this course\, partici
 pants will be equipped with the knowledge and skills to construct a comple
 te workflow for SRT data analysis\, from raw data to meaningful biological
  insights. The course combines lectures with practical sessions\, ensuring
  a balanced approach to theory and hands-on experience.\n\nThis is an inte
 rnational course hosted by NBIS (ELIXIR-SE) in collaboration with the [ELI
 XIR Single-Cell Omics community](https://elixir-europe.org/communities/sin
 gle-cell-omics) and other ELIXIR nodes.
LOCATION:BMC Trippelrummet Husargatan 3\, entrance C11
SUMMARY:ELIXIR/NBIS Spatial Omics Data Analysis
URL;VALUE=URI:https://elixir-europe-training.github.io/ELIXIR-SCO-spatial-o
 mics-2026/
END:VEVENT
END:VCALENDAR
