BEGIN:VCALENDAR
VERSION:2.0
PRODID:icalendar-ruby
CALSCALE:GREGORIAN
BEGIN:VEVENT
DTSTAMP:20260420T120634Z
UID:fbf12aff-375d-44f0-8907-375524752e9d
DTSTART:20261102T080000Z
DTEND:20261113T160000Z
DESCRIPTION:The course "Mass Spectrometry based Proteomics: When and How" i
 s a 2-week course designed for PhD students or those at an equivalent leve
 l who wish to gain comprehensive knowledge about mass spectrometry based p
 roteomics. This course will offer a wide-ranging introduction to the field
  of mass spectrometry based proteomics\, benefiting newcomers while also d
 elving into the advantages and disadvantages of various methods to provide
  more experienced users with substantial insights.\n\n## [Apply here!](htt
 ps://doctoralcourses.application.ki.se/fubasextern/info?kurs=K7F2522)\n\n#
 ### Course content\n**Practical Laboratory Exercise:** Practical laborator
 y exercise utilizes mass spectrometry-based proteomics to teach sample pre
 paration\, demonstrate sample acquisition and analysis\, and provide a fou
 ndation for basic data interpretation.\n**Skills Acquisition and Project P
 resentation:** The skills acquired during the course will be applied to wr
 ite and orally present a brief proteomics research project.\n**Focus of th
 e Course:** This course emphasizes proteomics technologies and application
 s. For proteomics data analysis\, we recommend our KI doctoral course "Omi
 cs Data Analysis: From Quantitative Data to Biological Information”\n\n*
 *Lectures and workshops on:**\n- Overview of proteomics\n- The proteomics 
 workflow\n- Basic of separation sciences: Protein and peptides\n- Sample p
 reparation for proteomics\n- Introduction to Mass spectrometry\n- Quantita
 tive proteomics methods\n- Global and targeted proteomic\n- Experimental d
 esign\n- Plasma proteomics\n- Protein Identification statistics\n- Proteog
 enomics\n- Biological validation\n- Clinical applications\n- Single cell p
 roteomics\n- Data Analysis &amp\; Bioinformatics\n\n#### Selection criteri
 a\nSelection will be based on:  \n1) General KI PhD courses' selection cri
 teria (https://staff.ki.se/doctoral-education/doctoral-courses/eligibility
 -and-selection-for-doctoral-courses).\n2) The relevance of the course syll
 abus for the applicant’s individual study plan/research (according to wr
 itten motivation). \n3) Start date of doctoral studies (priority given to 
 earlier start date).
LOCATION:Department of Oncology-Pathology\, Karolinska Institute-SciLifeLab
SUMMARY:Proteomics by Mass Spectrometry: When and How
URL;VALUE=URI:https://doctoralcourses.application.ki.se/fubasextern/info?ku
 rs=K7F2522
END:VEVENT
END:VCALENDAR
